BEGIN:VCALENDAR
VERSION:2.0
PRODID:-//Platinum Training Solutions - ECPv6.6.4.2//NONSGML v1.0//EN
CALSCALE:GREGORIAN
METHOD:PUBLISH
X-WR-CALNAME:Platinum Training Solutions
X-ORIGINAL-URL:https://platinumtrainingsolutions.com.au
X-WR-CALDESC:Events for Platinum Training Solutions
REFRESH-INTERVAL;VALUE=DURATION:PT1H
X-Robots-Tag:noindex
X-PUBLISHED-TTL:PT1H
BEGIN:VTIMEZONE
TZID:UTC
BEGIN:STANDARD
TZOFFSETFROM:+0000
TZOFFSETTO:+0000
TZNAME:UTC
DTSTART:20240101T000000
END:STANDARD
TZID:Australia/Brisbane
BEGIN:STANDARD
TZOFFSETFROM:+1000
TZOFFSETTO:+1000
TZNAME:AEST
DTSTART:20240101T000000
END:STANDARD
END:VTIMEZONE
BEGIN:VEVENT
DTSTART;VALUE=DATE:20241118
DTEND;VALUE=DATE:20241121
DTSTAMP:20260421T054851
CREATED:20241025T022154Z
LAST-MODIFIED:20250113T025658Z
UID:2840-1731888000-1732147199@platinumtrainingsolutions.com.au
SUMMARY:Elevating Work Platform (EWP) – HRWL
DESCRIPTION:TLILIC0005 – Licence to Operate a Boom-Type Elevating Work Platform (Boom Length 11 Metres or More) \nUnit of Competency \nThis course provides the essential skills and knowledge required to safely operate a boom-type Elevating Work Platform (EWP) with a boom length of 11 metres or more\, in compliance with all relevant legislative requirements. Please note that completing this unit does not automatically grant a High Risk Work Licence (HRWL) to operate this equipment. \nCourse Highlights: \n\nBoom-Type EWP Operation: Learn to operate telescoping\, hinged\, or articulated devices\, or any combination thereof\, used to support a platform for elevating personnel\, equipment\, and materials.\nPlanning and Preparation: Understand how to plan and prepare for EWP tasks\, ensuring all safety protocols are followed.\nTask Performance: Gain practical experience in performing various EWP tasks\, including lifting\, moving\, and positioning loads.\nPack Up: Learn the correct procedures for packing up and securing the EWP after use.\n\nIndustry Relevance \nOperating a boom-type EWP is a critical skill in many industries\, including construction\, maintenance\, and logistics. This course ensures you are well-prepared to handle these tasks safely and efficiently. \nLicensing/Regulatory Information \nTo perform this work\, you must hold a boom-type EWP High Risk Work Licence (HRWL). This unit is based on the licensing requirements of Part 4.5 of the Model Work Health and Safety (WHS) Regulations and meets Commonwealth\, State\, and Territory HRWL requirements. \nPrerequisites \nWorking at heights \nDuration \nThe course is conducted over 3 days. \nEntry Requirements for High Risk Work Licence (HRWL) Courses \nTo enroll in a High Risk Work Licence (HRWL) course at Platinum Training Solutions\, participants must meet the following entry requirements: \n\nParticipants must be at least 18 years of age.\nParticipants need to provide 100 points of identification\, including photo ID\, to verify their identity.\nParticipants must have a basic command of the English language. This includes the ability to read\, comprehend\, and write a range of texts\, and effectively respond to spoken language.\nParticipants should possess a basic ability in mathematics\, particularly for understanding formulas and load chart calculations.\nParticipants must have the necessary health and fitness levels to carry out their duties safely.\n\nWe look forward to supporting you in achieving your qualifications at Platinum Training Solutions. \n 
URL:https://platinumtrainingsolutions.com.au/event/elevating-work-platform-ewp-hrwl-2/
CATEGORIES:TLILIC0005 - Licence to Operate a Boom-Type Elevating Work Platform (Boom Length 11 Metres or More)
END:VEVENT
BEGIN:VEVENT
DTSTART;VALUE=DATE:20241111
DTEND;VALUE=DATE:20241116
DTSTAMP:20260421T054851
CREATED:20241025T021856Z
LAST-MODIFIED:20250113T025704Z
UID:2836-1731283200-1731715199@platinumtrainingsolutions.com.au
SUMMARY:Dogging Course - HRWL
DESCRIPTION:CPCCLDG3001 – Licence to perform dogging \nUnit of Competency \nThis course equips you with the essential skills and knowledge to safely perform dogging work. You will learn to apply slinging techniques to move loads\, select and inspect lifting gear\, and direct plant operators when loads are out of their sight. \nCourse Highlights: \n\nSlinging Techniques: Master the application of slinging techniques to safely move loads.\nLifting Gear: Learn to select and inspect various types of lifting gear.\nDirecting Operators: Gain the skills to effectively direct plant operators during load movements.\n\nIndustry Relevance \nDogging work is crucial in the construction industry and other sectors where loads are lifted and moved using cranes or hoists. This course ensures you are well-prepared to handle these tasks safely and efficiently. \nPrerequisites \nThere are no prerequisite units for this course. However\, completion of the general construction induction training program\, as specified in the Safe Work Australia model Code of Practice: Construction Work\, is required for anyone carrying out construction work. Achievement of CPCCWHS1001 – Prepare to Work Safely in the Construction Industry meets this requirement. \nDuration \nThe course is conducted over 5 days. \nEntry Requirements for High Risk Work Licence (HRWL) Courses \nTo enroll in a High Risk Work Licence (HRWL) course at Platinum Training Solutions\, participants must meet the following entry requirements: \n\nParticipants must be at least 18 years of age.\nParticipants need to provide 100 points of identification\, including photo ID\, to verify their identity.\nParticipants must have a basic command of the English language. This includes the ability to read\, comprehend\, and write a range of texts\, and effectively respond to spoken language.\nParticipants should possess a basic ability in mathematics\, particularly for understanding formulas and load chart calculations.\nParticipants must have the necessary health and fitness levels to carry out their duties safely.\n\nWe look forward to supporting you in achieving your qualifications at Platinum Training Solutions.
URL:https://platinumtrainingsolutions.com.au/event/cpccldg3001-licence-to-perform-dogging-2/
CATEGORIES:CPCCLDG3001 - Licence to perform dogging
END:VEVENT
BEGIN:VEVENT
DTSTART;VALUE=DATE:20241111
DTEND;VALUE=DATE:20241116
DTSTAMP:20260421T054851
CREATED:20240927T043639Z
LAST-MODIFIED:20250113T025711Z
UID:2770-1731283200-1731715199@platinumtrainingsolutions.com.au
SUMMARY:Basic Rigging - HRWL
DESCRIPTION:CPCCLRG3001 – Licence to Perform Rigging Basic Level  \nUnit of Competency \nThis course provides the essential skills and knowledge required to safely perform basic rigging work in compliance with all relevant legislative requirements. Please note that completing this unit does not automatically grant a High Risk Work Licence (HRWL) to perform rigging work. \nCourse Highlights: \n\nRigging Operation: Learn to use mechanical load shifting equipment and associated gear to move\, place\, or secure loads\, including plant\, equipment\, or members of a structure.\nPlanning and Preparation: Understand how to plan and prepare for rigging tasks\, ensuring all safety protocols are followed.\nTask Performance: Gain practical experience in performing various rigging tasks\, including structural steel erection\, hoists\, and pre-cast concrete members.\nPack Up: Learn the correct procedures for packing up and securing rigging equipment after use.\n\nIndustry Relevance \nPerforming rigging work is a critical skill in many industries\, including construction and other sectors where load shifting equipment is used. This course ensures you are well-prepared to handle these tasks safely and efficiently. \nLicensing/Regulatory Information \nTo perform this work\, you must hold a rigging High Risk Work Licence (HRWL). This unit is based on the licensing requirements of Part 4.5 of the Model Work Health and Safety (WHS) Regulations and meets Commonwealth\, State\, and Territory HRWL requirements. \nPrerequisites \nCPCCLDG3001 Licence to Perform Dogging \nDuration \nThe course is conducted over 5 days \nEntry Requirements for High Risk Work Licence (HRWL) Courses \nTo enroll in a High Risk Work Licence (HRWL) course at Platinum Training Solutions\, participants must meet the following entry requirements: \n\nParticipants must be at least 18 years of age.\nParticipants need to provide 100 points of identification\, including photo ID\, to verify their identity.\nParticipants must have a basic command of the English language. This includes the ability to read\, comprehend\, and write a range of texts\, and effectively respond to spoken language.\nParticipants should possess a basic ability in mathematics\, particularly for understanding formulas and load chart calculations.\nParticipants must have the necessary health and fitness levels to carry out their duties safely.\n\nWe look forward to supporting you in achieving your qualifications at Platinum Training Solutions.
URL:https://platinumtrainingsolutions.com.au/event/rigging-basic-level-hrwl/
CATEGORIES:CPCCLRG3001 - Licence to Perform Rigging Basic Level
END:VEVENT
BEGIN:VEVENT
DTSTART;VALUE=DATE:20241106
DTEND;VALUE=DATE:20241107
DTSTAMP:20260421T054851
CREATED:20241021T034814Z
LAST-MODIFIED:20241021T034814Z
UID:2833-1730851200-1730937599@platinumtrainingsolutions.com.au
SUMMARY:RII - Telehandler
DESCRIPTION:RIIHAN309F – Conduct telescopic materials handler operations  \nThe RIIHAN309F – Conduct Telescopic Materials Handler Operations course covers essential skills and knowledge for safely operating a telescopic materials handler (telehandler). \nKey components include planning and preparing for operations\, selecting\, fitting\, and removing attachments\, and conducting pre-operational checks. \nParticipants learn to operate the telehandler\, attach\, secure\, lift\, carry\, and place materials and loads\, and relocate the telehandler from one site to another. The course also covers carrying out machine operator maintenance  \nDuration \n1 Day
URL:https://platinumtrainingsolutions.com.au/event/rii-telehandler/
CATEGORIES:All RII Courses
END:VEVENT
BEGIN:VEVENT
DTSTART;VALUE=DATE:20241028
DTEND;VALUE=DATE:20241031
DTSTAMP:20260421T054851
CREATED:20240925T051510Z
LAST-MODIFIED:20250113T025717Z
UID:2755-1730073600-1730332799@platinumtrainingsolutions.com.au
SUMMARY:Elevating Work Platform (EWP) – HRWL
DESCRIPTION:TLILIC0005 – Licence to Operate a Boom-Type Elevating Work Platform (Boom Length 11 Metres or More)  \nUnit of Competency \nThis course provides the essential skills and knowledge required to safely operate a boom-type Elevating Work Platform (EWP) with a boom length of 11 metres or more\, in compliance with all relevant legislative requirements. Please note that completing this unit does not automatically grant a High Risk Work Licence (HRWL) to operate this equipment. \nCourse Highlights: \n\nBoom-Type EWP Operation: Learn to operate telescoping\, hinged\, or articulated devices\, or any combination thereof\, used to support a platform for elevating personnel\, equipment\, and materials.\nPlanning and Preparation: Understand how to plan and prepare for EWP tasks\, ensuring all safety protocols are followed.\nTask Performance: Gain practical experience in performing various EWP tasks\, including lifting\, moving\, and positioning loads.\nPack Up: Learn the correct procedures for packing up and securing the EWP after use.\n\nIndustry Relevance \nOperating a boom-type EWP is a critical skill in many industries\, including construction\, maintenance\, and logistics. This course ensures you are well-prepared to handle these tasks safely and efficiently. \nLicensing/Regulatory Information \nTo perform this work\, you must hold a boom-type EWP High Risk Work Licence (HRWL). This unit is based on the licensing requirements of Part 4.5 of the Model Work Health and Safety (WHS) Regulations and meets Commonwealth\, State\, and Territory HRWL requirements. \nPrerequisites \nWorking at heights \nDuration \nThe course is conducted over 3 days. \nEntry Requirements for High Risk Work Licence (HRWL) Courses \nTo enroll in a High Risk Work Licence (HRWL) course at Platinum Training Solutions\, participants must meet the following entry requirements: \n\nParticipants must be at least 18 years of age.\nParticipants need to provide 100 points of identification\, including photo ID\, to verify their identity.\nParticipants must have a basic command of the English language. This includes the ability to read\, comprehend\, and write a range of texts\, and effectively respond to spoken language.\nParticipants should possess a basic ability in mathematics\, particularly for understanding formulas and load chart calculations.\nParticipants must have the necessary health and fitness levels to carry out their duties safely.\n\nWe look forward to supporting you in achieving your qualifications at Platinum Training Solutions.
URL:https://platinumtrainingsolutions.com.au/event/elevating-work-platform-ewp-hrwl/
CATEGORIES:TLILIC0005 - Licence to Operate a Boom-Type Elevating Work Platform (Boom Length 11 Metres or More)
END:VEVENT
BEGIN:VEVENT
DTSTART;VALUE=DATE:20241021
DTEND;VALUE=DATE:20241026
DTSTAMP:20260421T054851
CREATED:20240920T102305Z
LAST-MODIFIED:20250113T025722Z
UID:2524-1729468800-1729900799@platinumtrainingsolutions.com.au
SUMMARY:Advanced Scaffolding Course - HRWL
DESCRIPTION:Advanced Scaffolding Course – HRWL\n\n\n\nCPCCLSF4001 – Licence to Erect\, Alter\, and Dismantle Scaffolding Advanced Level  \nUnit of Competency Details \nThis course provides the essential skills and knowledge required to safely perform advanced scaffolding work. You will learn to erect\, alter\, and dismantle temporary structures that support platforms from which a person or object could fall more than four metres. \nCourse Highlights: \n\nCantilevered Hoists: Gain expertise in working with cantilevered hoists.\nHung Scaffolds: Learn to erect and dismantle hung scaffolds\, including those suspended from tubes\, wire ropes\, or chains.\nSuspended Scaffolds: Master the setup and use of suspended scaffolds.\n\nIndustry Relevance \nAdvanced scaffolding work is crucial in the construction industry and other sectors where temporary structures are erected\, altered\, and dismantled. This course ensures you are well-prepared to handle these tasks safely and efficiently. \nPrerequisites \nTo enroll in this course\, you must have successfully completed the CPCCLSF3001 – Licence to Erect\, Alter\, and Dismantle Scaffolding Intermediate Level or hold a valid licence for intermediate scaffolding. Additionally\, completion of the general construction induction training program\, as specified in the Safe Work Australia model Code of Practice: Construction Work\, is required for anyone carrying out construction work. Achievement of CPCCWHS1001 – Prepare to Work Safely in the Construction Industry meets this requirement. \nDuration \nThe course is conducted over 5 days. \nEntry Requirements for High Risk Work Licence (HRWL) Courses \nTo enroll in a High Risk Work Licence (HRWL) course at Platinum Training Solutions\, participants must meet the following entry requirements: \n\nParticipants must be at least 18 years of age.\nParticipants need to provide 100 points of identification\, including photo ID\, to verify their identity.\nParticipants must have a basic command of the English language. This includes the ability to read\, comprehend\, and write a range of texts\, and effectively respond to spoken language.\nParticipants should possess a basic ability in mathematics\, particularly for understanding formulas and load chart calculations.\nParticipants must have the necessary health and fitness levels to carry out their duties safely.\n\nWe look forward to supporting you in achieving your qualifications at Platinum Training Solutions.
URL:https://platinumtrainingsolutions.com.au/event/cpcclsf4001-licence-to-erect-alter-and-dismantle-scaffolding-advanced-level-2/
CATEGORIES:CPCCLSF4001 - Licence to Erect, Alter, and Dismantle Scaffolding Advanced Level
END:VEVENT
BEGIN:VEVENT
DTSTART;VALUE=DATE:20241014
DTEND;VALUE=DATE:20241019
DTSTAMP:20260421T054851
CREATED:20240920T101427Z
LAST-MODIFIED:20250113T025728Z
UID:2522-1728864000-1729295999@platinumtrainingsolutions.com.au
SUMMARY:Dogging Course - HRWL
DESCRIPTION:Unit of competency details \nThis unit specifies the skills and knowledge required to safely perform dogging work. Dogging consists of the application of slinging techniques to move a load\, including the selection and inspection of lifting gear\, and the directing of a plant operator in the movement of a load when the load is out of sight of the operator. \nDogging work is conducted in the construction industry and other industries where loads are lifted and moved using cranes or hoists. \nCompletion of the general construction induction training program\, specified in the Safe Work Australia model Code of Practice: Construction Work\, is required by anyone carrying out construction work. Achievement of CPCCWHS1001 Prepare to work safely in the construction industry meets this requirement. \nPre-requisite Unit  \nNil. \nEntry Requirements for High Risk Work Licence (HRWL) Courses \nTo enroll in a High Risk Work Licence (HRWL) course at Platinum Training Solutions\, participants must meet the following entry requirements: \n\nParticipants must be at least 18 years of age.\nParticipants need to provide 100 points of identification\, including photo ID\, to verify their identity.\nParticipants must have a basic command of the English language. This includes the ability to read\, comprehend\, and write a range of texts\, and effectively respond to spoken language.\nParticipants should possess a basic ability in mathematics\, particularly for understanding formulas and load chart calculations.\nParticipants must have the necessary health and fitness levels to carry out their duties safely.\n\nWe look forward to supporting you in achieving your qualifications at Platinum Training Solutions.
URL:https://platinumtrainingsolutions.com.au/event/cpccldg3001-licence-to-perform-dogging/
CATEGORIES:CPCCLDG3001 - Licence to perform dogging
END:VEVENT
BEGIN:VEVENT
DTSTART;VALUE=DATE:20241009
DTEND;VALUE=DATE:20241012
DTSTAMP:20260421T054851
CREATED:20240925T042157Z
LAST-MODIFIED:20250113T025402Z
UID:2752-1728432000-1728691199@platinumtrainingsolutions.com.au
SUMMARY:Operate a Forklift – HRWL
DESCRIPTION:TLILIC0003 – Licence to Operate a Forklift Truck  \nUnit of Competency \nThis course provides the essential skills and knowledge required to safely operate a forklift truck in compliance with all relevant legislative requirements. Please note that completing this unit does not automatically grant a High Risk Work Licence (HRWL) to operate a forklift truck. \nCourse Highlights: \n\nForklift Operation: Learn to operate a powered industrial truck equipped with a mast and an elevating load carriage\, capable of raising loads 900 mm or more above the ground.\nPlanning and Preparation: Understand how to plan and prepare for forklift tasks\, ensuring all safety protocols are followed.\nTask Performance: Gain practical experience in performing various forklift tasks\, including lifting\, moving\, and placing loads.\nPack Up: Learn the correct procedures for packing up and securing the forklift after use.\n\nIndustry Relevance \nOperating a forklift truck is a critical skill in many industries\, including warehousing\, logistics\, and construction. This course ensures you are well-prepared to handle these tasks safely and efficiently. \nLicensing/Regulatory Information \nTo perform this work\, you must hold a forklift truck High Risk Work Licence (HRWL). This unit is based on the licensing requirements of Part 4.5 of the Model Work Health and Safety (WHS) Regulations and meets Commonwealth\, State\, and Territory HRWL requirements. \nPrerequisites \nThere are no prerequisite units for this course. \nDuration \nThe course is conducted over 3 days. \nEntry Requirements for High Risk Work Licence (HRWL) Courses \nTo enroll in a High Risk Work Licence (HRWL) course at Platinum Training Solutions\, participants must meet the following entry requirements: \n\nParticipants must be at least 18 years of age.\nParticipants need to provide 100 points of identification\, including photo ID\, to verify their identity.\nParticipants must have a basic command of the English language. This includes the ability to read\, comprehend\, and write a range of texts\, and effectively respond to spoken language.\nParticipants should possess a basic ability in mathematics\, particularly for understanding formulas and load chart calculations.\nParticipants must have the necessary health and fitness levels to carry out their duties safely.\n\nWe look forward to supporting you in achieving your qualifications at Platinum Training Solutions.
URL:https://platinumtrainingsolutions.com.au/event/operate-a-forklift-hrwl/
CATEGORIES:TLILIC0003 - Licence to Operate a Forklift Truck
END:VEVENT
BEGIN:VEVENT
DTSTART;VALUE=DATE:20241008
DTEND;VALUE=DATE:20241013
DTSTAMP:20260421T054851
CREATED:20240925T041421Z
LAST-MODIFIED:20250113T025733Z
UID:2741-1728345600-1728777599@platinumtrainingsolutions.com.au
SUMMARY:Intermediate Scaffolding Course - HRWL
DESCRIPTION:CPCCLSF3001 – Licence to Erect\, Alter\, and Dismantle Scaffolding Intermediate Level  \nUnit of Competency Details \nThis course provides the essential skills and knowledge required to safely perform intermediate scaffolding work. You will learn to erect\, alter\, and dismantle temporary structures that support platforms from which a person or object could fall more than four metres. \nCourse Highlights: \n\nCantilevered Crane Loading Platforms: Gain expertise in working with cantilevered crane loading platforms.\nCantilevered and Spur Scaffolds: Learn to erect and dismantle cantilevered and spur scaffolds.\nBarrow Ramps and Sloping Platforms: Master the setup and use of barrow ramps and sloping platforms.\nPerimeter Safety Screens and Shutters: Understand scaffolding associated with perimeter safety screens and shutters.\nMast Climbing Work Platforms: Operate and maintain mast climbing work platforms.\nTube and Coupler Scaffolds: Work with tube and coupler scaffolds\, including covered ways and gantries.\n\nIndustry Relevance \nIntermediate scaffolding work is crucial in the construction industry and other sectors where temporary structures are erected\, altered\, and dismantled. This course ensures you are well-prepared to handle these tasks safely and efficiently. \nPrerequisites \nTo enroll in this course\, you must have successfully completed the CPCCLSF2001 – Licence to Erect\, Alter\, and Dismantle Scaffolding Basic Level or hold a valid licence for basic scaffolding. Additionally\, completion of the general construction induction training program\, as specified in the Safe Work Australia model Code of Practice: Construction Work\, is required for anyone carrying out construction work. Achievement of CPCCWHS1001 – Prepare to Work Safely in the Construction Industry meets this requirement. \nDuration \nThe course is conducted over 5 days. \nEntry Requirements for High Risk Work Licence (HRWL) Courses \nTo enroll in a High Risk Work Licence (HRWL) course at Platinum Training Solutions\, participants must meet the following entry requirements: \n\nParticipants must be at least 18 years of age.\nParticipants need to provide 100 points of identification\, including photo ID\, to verify their identity.\nParticipants must have a basic command of the English language. This includes the ability to read\, comprehend\, and write a range of texts\, and effectively respond to spoken language.\nParticipants should possess a basic ability in mathematics\, particularly for understanding formulas and load chart calculations.\nParticipants must have the necessary health and fitness levels to carry out their duties safely.\n\nWe look forward to supporting you in achieving your qualifications at Platinum Training Solutions.
URL:https://platinumtrainingsolutions.com.au/event/intermediate-scaffolding-course-hrwl/
CATEGORIES:CPCCLSF3001 - Licence to Erect, Alter, and Dismantle Scaffolding Intermediate Level
END:VEVENT
BEGIN:VEVENT
DTSTART;VALUE=DATE:20240923
DTEND;VALUE=DATE:20240928
DTSTAMP:20260421T054851
CREATED:20240920T095614Z
LAST-MODIFIED:20250113T025743Z
UID:2514-1727049600-1727481599@platinumtrainingsolutions.com.au
SUMMARY:Advanced Scaffolding Course - HRWL
DESCRIPTION:CPCCLSF4001 – Licence to Erect\, Alter and Dismantle Scaffolding Advanced Level \nUnit of competency details \nThis unit specifies the skills and knowledge required to safely perform advanced scaffolding work. \nScaffolding work involves erecting\, altering or dismantling a temporary structure to support a platform from which a person or object could fall more than four metres. \nThis unit applies to scaffolding work involving:\n• cantilevered hoists\n• hung scaffolds\, including scaffolds hung from tubes\, wire ropes or chains\n• suspended scaffolds \nScaffolding work is undertaken in construction and other industries where temporary structures are erected\, altered and dismantled. \nCompletion of the general construction induction training program\, specified in the Safe Work Australia model Code of Practice: Construction Work\, is required by anyone carrying out construction work. Achievement of CPCCWHS1001Prepare to work safely in the construction industry meets this requirement. \nThis unit has a pre-requisite requirement. This requirement may be met by either the successful completion of the unit CPCCLSF3001 Licence to erect alter and dismantle scaffolding intermediate level or holding a valid licence for intermediate scaffolding. \nPre-requisite Unit \nCPCCLSF3001 Licence to erect\, alter and dismantle scaffolding intermediate level \nEntry Requirements for High Risk Work Licence (HRWL) Courses \nTo enroll in a High Risk Work Licence (HRWL) course at Platinum Training Solutions\, participants must meet the following entry requirements: \n\nParticipants must be at least 18 years of age.\nParticipants need to provide 100 points of identification\, including photo ID\, to verify their identity.\nParticipants must have a basic command of the English language. This includes the ability to read\, comprehend\, and write a range of texts\, and effectively respond to spoken language.\nParticipants should possess a basic ability in mathematics\, particularly for understanding formulas and load chart calculations.\nParticipants must have the necessary health and fitness levels to carry out their duties safely.\n\nWe look forward to supporting you in achieving your qualifications at Platinum Training Solutions.
URL:https://platinumtrainingsolutions.com.au/event/cpcclsf4001-licence-to-erect-alter-and-dismantle-scaffolding-advanced-level/
LOCATION:Platinum Training Solutions\, 36 McLennan St\, Ooralea\, Queensland\, 4740\, Australia
CATEGORIES:CPCCLSF4001 - Licence to Erect, Alter, and Dismantle Scaffolding Advanced Level
END:VEVENT
END:VCALENDAR