BEGIN:VCALENDAR
VERSION:2.0
PRODID:-//Platinum Training Solutions - ECPv6.6.4.2//NONSGML v1.0//EN
CALSCALE:GREGORIAN
METHOD:PUBLISH
X-WR-CALNAME:Platinum Training Solutions
X-ORIGINAL-URL:https://platinumtrainingsolutions.com.au
X-WR-CALDESC:Events for Platinum Training Solutions
REFRESH-INTERVAL;VALUE=DURATION:PT1H
X-Robots-Tag:noindex
X-PUBLISHED-TTL:PT1H
BEGIN:VTIMEZONE
TZID:UTC
BEGIN:STANDARD
TZOFFSETFROM:+0000
TZOFFSETTO:+0000
TZNAME:UTC
DTSTART:20260101T000000
END:STANDARD
END:VTIMEZONE
BEGIN:VEVENT
DTSTART;VALUE=DATE:20260608
DTEND;VALUE=DATE:20260613
DTSTAMP:20260420T212834
CREATED:20260403T232348Z
LAST-MODIFIED:20260403T232348Z
UID:3439-1780876800-1781308799@platinumtrainingsolutions.com.au
SUMMARY:Intermediate Scaffolding Course - HRWL
DESCRIPTION:CPCCLSF3001 – Licence to Erect\, Alter\, and Dismantle Scaffolding Intermediate Level  \nUnit of Competency Details \nThis course provides the essential skills and knowledge required to safely perform intermediate scaffolding work. You will learn to erect\, alter\, and dismantle temporary structures that support platforms from which a person or object could fall more than four metres. \nCourse Highlights: \n\nCantilevered Crane Loading Platforms: Gain expertise in working with cantilevered crane loading platforms.\nCantilevered and Spur Scaffolds: Learn to erect and dismantle cantilevered and spur scaffolds.\nBarrow Ramps and Sloping Platforms: Master the setup and use of barrow ramps and sloping platforms.\nPerimeter Safety Screens and Shutters: Understand scaffolding associated with perimeter safety screens and shutters.\nMast Climbing Work Platforms: Operate and maintain mast climbing work platforms.\nTube and Coupler Scaffolds: Work with tube and coupler scaffolds\, including covered ways and gantries.\n\nIndustry Relevance \nIntermediate scaffolding work is crucial in the construction industry and other sectors where temporary structures are erected\, altered\, and dismantled. This course ensures you are well-prepared to handle these tasks safely and efficiently. \nPrerequisites \nTo enroll in this course\, you must have successfully completed the CPCCLSF2001 – Licence to Erect\, Alter\, and Dismantle Scaffolding Basic Level or hold a valid licence for basic scaffolding. Additionally\, completion of the general construction induction training program\, as specified in the Safe Work Australia model Code of Practice: Construction Work\, is required for anyone carrying out construction work. Achievement of CPCCWHS1001 – Prepare to Work Safely in the Construction Industry meets this requirement. \nDuration \nThe course is conducted over 5 days. \nEntry Requirements for High Risk Work Licence (HRWL) Courses \nTo enroll in a High Risk Work Licence (HRWL) course at Platinum Training Solutions\, participants must meet the following entry requirements: \n\nParticipants must be at least 18 years of age.\nParticipants need to provide 100 points of identification\, including photo ID\, to verify their identity.\nParticipants must have a basic command of the English language. This includes the ability to read\, comprehend\, and write a range of texts\, and effectively respond to spoken language.\nParticipants should possess a basic ability in mathematics\, particularly for understanding formulas and load chart calculations.\nParticipants must have the necessary health and fitness levels to carry out their duties safely.\n\nWe look forward to supporting you in achieving your qualifications at Platinum Training Solutions.
URL:https://platinumtrainingsolutions.com.au/event/intermediate-scaffolding-course-hrwl-8/
CATEGORIES:CPCCLSF3001 - Licence to Erect, Alter, and Dismantle Scaffolding Intermediate Level
END:VEVENT
BEGIN:VEVENT
DTSTART;VALUE=DATE:20260615
DTEND;VALUE=DATE:20260618
DTSTAMP:20260420T212834
CREATED:20260403T232623Z
LAST-MODIFIED:20260403T232623Z
UID:3446-1781481600-1781740799@platinumtrainingsolutions.com.au
SUMMARY:Elevating Work Platform (EWP) – HRWL
DESCRIPTION:TLILIC0005 – Licence to Operate a Boom-Type Elevating Work Platform (Boom Length 11 Metres or More)  \nUnit of Competency \nThis course provides the essential skills and knowledge required to safely operate a boom-type Elevating Work Platform (EWP) with a boom length of 11 metres or more\, in compliance with all relevant legislative requirements. Please note that completing this unit does not automatically grant a High Risk Work Licence (HRWL) to operate this equipment. \nCourse Highlights: \n\nBoom-Type EWP Operation: Learn to operate telescoping\, hinged\, or articulated devices\, or any combination thereof\, used to support a platform for elevating personnel\, equipment\, and materials.\nPlanning and Preparation: Understand how to plan and prepare for EWP tasks\, ensuring all safety protocols are followed.\nTask Performance: Gain practical experience in performing various EWP tasks\, including lifting\, moving\, and positioning loads.\nPack Up: Learn the correct procedures for packing up and securing the EWP after use.\n\nIndustry Relevance \nOperating a boom-type EWP is a critical skill in many industries\, including construction\, maintenance\, and logistics. This course ensures you are well-prepared to handle these tasks safely and efficiently. \nLicensing/Regulatory Information \nTo perform this work\, you must hold a boom-type EWP High Risk Work Licence (HRWL). This unit is based on the licensing requirements of Part 4.5 of the Model Work Health and Safety (WHS) Regulations and meets Commonwealth\, State\, and Territory HRWL requirements. \nPrerequisites \nWorking at heights \nDuration \nThe course is conducted over 3 days. \nEntry Requirements for High Risk Work Licence (HRWL) Courses \nTo enroll in a High Risk Work Licence (HRWL) course at Platinum Training Solutions\, participants must meet the following entry requirements: \n\nParticipants must be at least 18 years of age.\nParticipants need to provide 100 points of identification\, including photo ID\, to verify their identity.\nParticipants must have a basic command of the English language. This includes the ability to read\, comprehend\, and write a range of texts\, and effectively respond to spoken language.\nParticipants should possess a basic ability in mathematics\, particularly for understanding formulas and load chart calculations.\nParticipants must have the necessary health and fitness levels to carry out their duties safely.\n\nWe look forward to supporting you in achieving your qualifications at Platinum Training Solutions.
URL:https://platinumtrainingsolutions.com.au/event/elevating-work-platform-ewp-hrwl-14/
CATEGORIES:TLILIC0005 - Licence to Operate a Boom-Type Elevating Work Platform (Boom Length 11 Metres or More)
END:VEVENT
BEGIN:VEVENT
DTSTART;VALUE=DATE:20260622
DTEND;VALUE=DATE:20260627
DTSTAMP:20260420T212834
CREATED:20260403T232525Z
LAST-MODIFIED:20260403T232525Z
UID:3443-1782086400-1782518399@platinumtrainingsolutions.com.au
SUMMARY:Advanced Scaffolding Course - HRWL
DESCRIPTION:CPCCLSF4001 – Licence to Erect\, Alter\, and Dismantle Scaffolding Advanced Level  \nUnit of Competency Details \nThis course provides the essential skills and knowledge required to safely perform advanced scaffolding work. You will learn to erect\, alter\, and dismantle temporary structures that support platforms from which a person or object could fall more than four metres. \nCourse Highlights: \n\nCantilevered Hoists: Gain expertise in working with cantilevered hoists.\nHung Scaffolds: Learn to erect and dismantle hung scaffolds\, including those suspended from tubes\, wire ropes\, or chains.\nSuspended Scaffolds: Master the setup and use of suspended scaffolds.\n\nIndustry Relevance \nAdvanced scaffolding work is crucial in the construction industry and other sectors where temporary structures are erected\, altered\, and dismantled. This course ensures you are well-prepared to handle these tasks safely and efficiently. \nPrerequisites \nTo enroll in this course\, you must have successfully completed the CPCCLSF3001 – Licence to Erect\, Alter\, and Dismantle Scaffolding Intermediate Level or hold a valid licence for intermediate scaffolding. Additionally\, completion of the general construction induction training program\, as specified in the Safe Work Australia model Code of Practice: Construction Work\, is required for anyone carrying out construction work. Achievement of CPCCWHS1001 – Prepare to Work Safely in the Construction Industry meets this requirement. \nDuration \nThe course is conducted over 5 days. \nEntry Requirements for High Risk Work Licence (HRWL) Courses \nTo enroll in a High Risk Work Licence (HRWL) course at Platinum Training Solutions\, participants must meet the following entry requirements: \n\nParticipants must be at least 18 years of age.\nParticipants need to provide 100 points of identification\, including photo ID\, to verify their identity.\nParticipants must have a basic command of the English language. This includes the ability to read\, comprehend\, and write a range of texts\, and effectively respond to spoken language.\nParticipants should possess a basic ability in mathematics\, particularly for understanding formulas and load chart calculations.\nParticipants must have the necessary health and fitness levels to carry out their duties safely.\n\nWe look forward to supporting you in achieving your qualifications at Platinum Training Solutions.
URL:https://platinumtrainingsolutions.com.au/event/advanced-scaffolding-course-hrwl-9/
CATEGORIES:CPCCLSF4001 - Licence to Erect, Alter, and Dismantle Scaffolding Advanced Level
END:VEVENT
END:VCALENDAR