BEGIN:VCALENDAR
VERSION:2.0
PRODID:-//Platinum Training Solutions - ECPv6.6.4.2//NONSGML v1.0//EN
CALSCALE:GREGORIAN
METHOD:PUBLISH
X-WR-CALNAME:Platinum Training Solutions
X-ORIGINAL-URL:https://platinumtrainingsolutions.com.au
X-WR-CALDESC:Events for Platinum Training Solutions
REFRESH-INTERVAL;VALUE=DURATION:PT1H
X-Robots-Tag:noindex
X-PUBLISHED-TTL:PT1H
BEGIN:VTIMEZONE
TZID:UTC
BEGIN:STANDARD
TZOFFSETFROM:+0000
TZOFFSETTO:+0000
TZNAME:UTC
DTSTART:20260101T000000
END:STANDARD
END:VTIMEZONE
BEGIN:VEVENT
DTSTART;VALUE=DATE:20260622
DTEND;VALUE=DATE:20260627
DTSTAMP:20260421T015502
CREATED:20260403T232525Z
LAST-MODIFIED:20260403T232525Z
UID:3443-1782086400-1782518399@platinumtrainingsolutions.com.au
SUMMARY:Advanced Scaffolding Course - HRWL
DESCRIPTION:CPCCLSF4001 – Licence to Erect\, Alter\, and Dismantle Scaffolding Advanced Level  \nUnit of Competency Details \nThis course provides the essential skills and knowledge required to safely perform advanced scaffolding work. You will learn to erect\, alter\, and dismantle temporary structures that support platforms from which a person or object could fall more than four metres. \nCourse Highlights: \n\nCantilevered Hoists: Gain expertise in working with cantilevered hoists.\nHung Scaffolds: Learn to erect and dismantle hung scaffolds\, including those suspended from tubes\, wire ropes\, or chains.\nSuspended Scaffolds: Master the setup and use of suspended scaffolds.\n\nIndustry Relevance \nAdvanced scaffolding work is crucial in the construction industry and other sectors where temporary structures are erected\, altered\, and dismantled. This course ensures you are well-prepared to handle these tasks safely and efficiently. \nPrerequisites \nTo enroll in this course\, you must have successfully completed the CPCCLSF3001 – Licence to Erect\, Alter\, and Dismantle Scaffolding Intermediate Level or hold a valid licence for intermediate scaffolding. Additionally\, completion of the general construction induction training program\, as specified in the Safe Work Australia model Code of Practice: Construction Work\, is required for anyone carrying out construction work. Achievement of CPCCWHS1001 – Prepare to Work Safely in the Construction Industry meets this requirement. \nDuration \nThe course is conducted over 5 days. \nEntry Requirements for High Risk Work Licence (HRWL) Courses \nTo enroll in a High Risk Work Licence (HRWL) course at Platinum Training Solutions\, participants must meet the following entry requirements: \n\nParticipants must be at least 18 years of age.\nParticipants need to provide 100 points of identification\, including photo ID\, to verify their identity.\nParticipants must have a basic command of the English language. This includes the ability to read\, comprehend\, and write a range of texts\, and effectively respond to spoken language.\nParticipants should possess a basic ability in mathematics\, particularly for understanding formulas and load chart calculations.\nParticipants must have the necessary health and fitness levels to carry out their duties safely.\n\nWe look forward to supporting you in achieving your qualifications at Platinum Training Solutions.
URL:https://platinumtrainingsolutions.com.au/event/advanced-scaffolding-course-hrwl-9/
CATEGORIES:CPCCLSF4001 - Licence to Erect, Alter, and Dismantle Scaffolding Advanced Level
END:VEVENT
BEGIN:VEVENT
DTSTART;VALUE=DATE:20260713
DTEND;VALUE=DATE:20260718
DTSTAMP:20260421T015502
CREATED:20260420T223510Z
LAST-MODIFIED:20260420T223510Z
UID:3457-1783900800-1784332799@platinumtrainingsolutions.com.au
SUMMARY:Basic Rigging Course - HRWL
DESCRIPTION:CPCCLRG3001 – Licence to Perform Rigging Basic Level  \nUnit of Competency \nThis course provides the essential skills and knowledge required to safely perform basic rigging work in compliance with all relevant legislative requirements. Please note that completing this unit does not automatically grant a High Risk Work Licence (HRWL) to perform rigging work. \nCourse Highlights: \n\nRigging Operation: Learn to use mechanical load shifting equipment and associated gear to move\, place\, or secure loads\, including plant\, equipment\, or members of a structure.\nPlanning and Preparation: Understand how to plan and prepare for rigging tasks\, ensuring all safety protocols are followed.\nTask Performance: Gain practical experience in performing various rigging tasks\, including structural steel erection\, hoists\, and pre-cast concrete members.\nPack Up: Learn the correct procedures for packing up and securing rigging equipment after use.\n\nIndustry Relevance \nPerforming rigging work is a critical skill in many industries\, including construction and other sectors where load shifting equipment is used. This course ensures you are well-prepared to handle these tasks safely and efficiently. \nLicensing/Regulatory Information \nTo perform this work\, you must hold a rigging High Risk Work Licence (HRWL). This unit is based on the licensing requirements of Part 4.5 of the Model Work Health and Safety (WHS) Regulations and meets Commonwealth\, State\, and Territory HRWL requirements. \nPrerequisites \nCPCCLDG3001 Licence to Perform Dogging \nDuration \nThe course is conducted over 5 days. \nEntry Requirements for High Risk Work Licence (HRWL) Courses \nTo enroll in a High Risk Work Licence (HRWL) course at Platinum Training Solutions\, participants must meet the following entry requirements: \n\nParticipants must be at least 18 years of age.\nParticipants need to provide 100 points of identification\, including photo ID\, to verify their identity.\nParticipants must have a basic command of the English language. This includes the ability to read\, comprehend\, and write a range of texts\, and effectively respond to spoken language.\nParticipants should possess a basic ability in mathematics\, particularly for understanding formulas and load chart calculations.\nParticipants must have the necessary health and fitness levels to carry out their duties safely.\n\nWe look forward to supporting you in achieving your qualifications at Platinum Training Solutions. \n 
URL:https://platinumtrainingsolutions.com.au/event/basic-rigging-course-hrwl-9/
CATEGORIES:CPCCLRG3001 - Licence to Perform Rigging Basic Level
END:VEVENT
BEGIN:VEVENT
DTSTART;VALUE=DATE:20260718
DTEND;VALUE=DATE:20260720
DTSTAMP:20260421T015502
CREATED:20260420T223603Z
LAST-MODIFIED:20260420T223603Z
UID:3459-1784332800-1784505599@platinumtrainingsolutions.com.au
SUMMARY:Operate a Forklift - HRWL
DESCRIPTION:TLILIC0003 – Licence to Operate a Forklift Truck  \nUnit of Competency \nThis course provides the essential skills and knowledge required to safely operate a forklift truck in compliance with all relevant legislative requirements. Please note that completing this unit does not automatically grant a High Risk Work Licence (HRWL) to operate a forklift truck. \nCourse Highlights: \n\nForklift Operation: Learn to operate a powered industrial truck equipped with a mast and an elevating load carriage\, capable of raising loads 900 mm or more above the ground.\nPlanning and Preparation: Understand how to plan and prepare for forklift tasks\, ensuring all safety protocols are followed.\nTask Performance: Gain practical experience in performing various forklift tasks\, including lifting\, moving\, and placing loads.\nPack Up: Learn the correct procedures for packing up and securing the forklift after use.\n\nIndustry Relevance \nOperating a forklift truck is a critical skill in many industries\, including warehousing\, logistics\, and construction. This course ensures you are well-prepared to handle these tasks safely and efficiently. \nLicensing/Regulatory Information \nTo perform this work\, you must hold a forklift truck High Risk Work Licence (HRWL). This unit is based on the licensing requirements of Part 4.5 of the Model Work Health and Safety (WHS) Regulations and meets Commonwealth\, State\, and Territory HRWL requirements. \nPrerequisites \nThere are no prerequisite units for this course. \nDuration \nThe course is conducted over 2 days. \nEntry Requirements for High Risk Work Licence (HRWL) Courses \nTo enroll in a High Risk Work Licence (HRWL) course at Platinum Training Solutions\, participants must meet the following entry requirements: \n\nParticipants must be at least 18 years of age.\nParticipants need to provide 100 points of identification\, including photo ID\, to verify their identity.\nParticipants must have a basic command of the English language. This includes the ability to read\, comprehend\, and write a range of texts\, and effectively respond to spoken language.\nParticipants should possess a basic ability in mathematics\, particularly for understanding formulas and load chart calculations.\nParticipants must have the necessary health and fitness levels to carry out their duties safely.\n\nWe look forward to supporting you in achieving your qualifications at Platinum Training Solutions.
URL:https://platinumtrainingsolutions.com.au/event/operate-a-forklift-hrwl-12/
CATEGORIES:TLILIC0003 - Licence to Operate a Forklift Truck
END:VEVENT
BEGIN:VEVENT
DTSTART;VALUE=DATE:20260720
DTEND;VALUE=DATE:20260725
DTSTAMP:20260421T015502
CREATED:20260420T224020Z
LAST-MODIFIED:20260420T224020Z
UID:3461-1784505600-1784937599@platinumtrainingsolutions.com.au
SUMMARY:Basic Scaffolding Course - HRWL
DESCRIPTION:CPCCLSF2001 – Licence to Erect\, Alter\, and Dismantle Scaffolding Basic Level  \nUnit of Competency \nThis course equips you with the essential skills and knowledge to safely perform basic scaffolding work. You will learn to erect\, alter\, and dismantle temporary structures that support platforms from which a person or object could fall more than four metres. \nCourse Highlights: \n\nModular or Pre-Fabricated Scaffolds: Learn to work with various types of scaffolding systems.\nCantilevered Materials Hoists: Operate hoists with a maximum working load of 500 kg.\nRopes and Gin Wheels: Master the use of ropes and gin wheels for lifting and moving materials.\nSafety Nets and Static Lines: Ensure safety with the correct use of nets and lines.\nBracket Scaffolds: Gain expertise in erecting and dismantling tank and formwork scaffolds.\n\nIndustry Relevance \nScaffolding work is crucial in the construction industry and other sectors where temporary structures are erected\, altered\, and dismantled. This course ensures you are well-prepared to handle these tasks safely and efficiently. \nPrerequisites \nThere are no prerequisite units for this course. However\, completion of the general construction induction training program\, as specified in the Safe Work Australia model Code of Practice: Construction Work\, is required for anyone carrying out construction work. Achievement of CPCCWHS1001 – Prepare to Work Safely in the Construction Industry meets this requirement. \nDuration \nThe course is conducted over 5 days. \n  \n 
URL:https://platinumtrainingsolutions.com.au/event/basic-scaffolding-course-hrwl-7/
CATEGORIES:CPCCLSF2001 - Licence to Erect, Alter, and Dismantle Scaffolding Basic Level
END:VEVENT
BEGIN:VEVENT
DTSTART;VALUE=DATE:20260727
DTEND;VALUE=DATE:20260801
DTSTAMP:20260421T015502
CREATED:20260420T223238Z
LAST-MODIFIED:20260420T223238Z
UID:3455-1785110400-1785542399@platinumtrainingsolutions.com.au
SUMMARY:Intermediate Rigging Course - HRWL
DESCRIPTION:CPCCLRG3002 Licence to perform rigging intermediate level \nUnit of Competency \nThis course delivers the fundamental skills and knowledge needed to perform Intermediate rigging tasks safely\, adhering to all legislative requirements. Please note that completing this unit alone does not automatically qualify individuals for a High Risk Work Licence (HRWL) for rigging activities. \nCourse Highlights: \n\nIntermediate Rigging Operations: Learn to safely use mechanical load-shifting equipment and associated tools to move\, position\, or secure more complex loads\, such as plant components\, equipment\, and structural elements.\nComprehensive Planning and Preparation: Develop the skills to plan and prepare for intermediate rigging tasks\, ensuring strict compliance with safety protocols and legislative requirements.\nPractical Task Execution: Gain hands-on experience with intermediate rigging activities\, including tasks involving hoists with jibs or self-climbing mechanisms\, cranes\, conveyors\, and tilt-up concrete panels.\nEquipment Dismantling and Storage: Master proper procedures for dismantling and securely packing up intermediate rigging tools and equipment.\n\nIndustry Relevance \nRigging expertise is vital for construction and other industries where load shifting equipment is utilised. This course equips participants to handle these tasks with confidence and safety. \nLicensing/Regulatory Information \nA valid High Risk Work Licence (HRWL) is mandatory to perform rigging work. This unit complies with the licensing requirements outlined in Part 4.5 of the Model Work Health and Safety (WHS) Regulations\, meeting all relevant national and regional standards. \nPrerequisites \nCPCCLRG3001 Licence to perform rigging basic level \nCourse Duration \nThis course is conducted over 5 days \nEntry Requirements for High Risk Work Licence (HRWL) Courses \nTo enrol in a High Risk Work Licence (HRWL) course at Platinum Training Solutions\, participants must meet the following entry requirements: \n\nParticipants must be at least 18 years of age.\nParticipants need to provide 100 points of identification\, including photo ID\, to verify their identity.\nParticipants must have a basic command of the English language. This includes the ability to read\, comprehend\, and write a range of texts\, and effectively respond to spoken language.\nParticipants should possess a basic ability in mathematics\, particularly for understanding formulas and load chart calculations.\nParticipants must have the necessary health and fitness levels to carry out their duties safely.\n\nWe look forward to supporting you in achieving your qualifications at Platinum Training Solutions. \n 
URL:https://platinumtrainingsolutions.com.au/event/intermediate-rigging-course-hrwl-4/
CATEGORIES:CPCCLRG3002 - Licence to perform rigging intermediate level
END:VEVENT
BEGIN:VEVENT
DTSTART;VALUE=DATE:20260803
DTEND;VALUE=DATE:20260808
DTSTAMP:20260421T015502
CREATED:20260420T224438Z
LAST-MODIFIED:20260420T224438Z
UID:3463-1785715200-1786147199@platinumtrainingsolutions.com.au
SUMMARY:Dogging Course - HRWL
DESCRIPTION:CPCCLDG3001 – Licence to perform dogging \nUnit of Competency \nThis course equips you with the essential skills and knowledge to safely perform dogging work. You will learn to apply slinging techniques to move loads\, select and inspect lifting gear\, and direct plant operators when loads are out of their sight. \nCourse Highlights: \n\nSlinging Techniques: Master the application of slinging techniques to safely move loads.\nLifting Gear: Learn to select and inspect various types of lifting gear.\nDirecting Operators: Gain the skills to effectively direct plant operators during load movements.\n\nIndustry Relevance \nDogging work is crucial in the construction industry and other sectors where loads are lifted and moved using cranes or hoists. This course ensures you are well-prepared to handle these tasks safely and efficiently. \nPrerequisites \nThere are no prerequisite units for this course. However\, completion of the general construction induction training program\, as specified in the Safe Work Australia model Code of Practice: Construction Work\, is required for anyone carrying out construction work. Achievement of CPCCWHS1001 – Prepare to Work Safely in the Construction Industry meets this requirement. \nDuration \nThe course is conducted over 5 days. \nEntry Requirements for High Risk Work Licence (HRWL) Courses \nTo enroll in a High Risk Work Licence (HRWL) course at Platinum Training Solutions\, participants must meet the following entry requirements: \n\nParticipants must be at least 18 years of age.\nParticipants need to provide 100 points of identification\, including photo ID\, to verify their identity.\nParticipants must have a basic command of the English language. This includes the ability to read\, comprehend\, and write a range of texts\, and effectively respond to spoken language.\nParticipants should possess a basic ability in mathematics\, particularly for understanding formulas and load chart calculations.\nParticipants must have the necessary health and fitness levels to carry out their duties safely.\n\nWe look forward to supporting you in achieving your qualifications at Platinum Training Solutions.
URL:https://platinumtrainingsolutions.com.au/event/dogging-course-hrwl-11/
CATEGORIES:CPCCLDG3001 - Licence to perform dogging
END:VEVENT
BEGIN:VEVENT
DTSTART;VALUE=DATE:20260807
DTEND;VALUE=DATE:20260808
DTSTAMP:20260421T015502
CREATED:20260420T224522Z
LAST-MODIFIED:20260420T224805Z
UID:3465-1786060800-1786147199@platinumtrainingsolutions.com.au
SUMMARY:Operate a gantry or overhead crane (RIIHAN305D)
DESCRIPTION:RIIHAN305D – Operate a gantry or overhead crane \n  \nThe RIIHAN305D – Operate a Gantry or Overhead Crane course covers essential skills and knowledge for operating a gantry or overhead crane. \nThis includes planning and preparing for operations and performing operational servicing. \nParticipants learn to inspect and maintain equipment\, ensure safety compliance\, and effectively manage crane operations in various site based roles. \n  \nDuration \n1 Day
URL:https://platinumtrainingsolutions.com.au/event/operate-a-gantry-or-overhead-crane-riihan305d-2/
CATEGORIES:RIIHAN305D - Operate a gantry or overhead crane
END:VEVENT
END:VCALENDAR