BEGIN:VCALENDAR
VERSION:2.0
PRODID:-//Platinum Training Solutions - ECPv6.6.4.2//NONSGML v1.0//EN
CALSCALE:GREGORIAN
METHOD:PUBLISH
X-WR-CALNAME:Platinum Training Solutions
X-ORIGINAL-URL:https://platinumtrainingsolutions.com.au
X-WR-CALDESC:Events for Platinum Training Solutions
REFRESH-INTERVAL;VALUE=DURATION:PT1H
X-Robots-Tag:noindex
X-PUBLISHED-TTL:PT1H
BEGIN:VTIMEZONE
TZID:UTC
BEGIN:STANDARD
TZOFFSETFROM:+0000
TZOFFSETTO:+0000
TZNAME:UTC
DTSTART:20260101T000000
END:STANDARD
END:VTIMEZONE
BEGIN:VEVENT
DTSTART;VALUE=DATE:20260130
DTEND;VALUE=DATE:20260131
DTSTAMP:20260419T194429
CREATED:20251201T222457Z
LAST-MODIFIED:20251203T051134Z
UID:3386-1769731200-1769817599@platinumtrainingsolutions.com.au
SUMMARY:Combined GTA & CS - MSMWHS217 Gas test atmospheres & RIIWHS202E Enter and work in confined spaces (Combined)
DESCRIPTION:Gas Test Atmospheres & Enter and Work in Confined Spaces (Combined Course Bundle) \nMSMWHS217 – Gas test atmospheres \nThe MSMWHS217 – Gas Test Atmospheres course covers essential skills and knowledge required to test and monitor potentially hazardous atmospheres using electronic detection equipment. \nKey components include preparing for gas testing\, understanding the necessary equipment\, and performing gas tests. \nThe unit is suitable for use in the following situations: \n\nconfined spaces\nenclosed and partially enclosed spaces\nhot work\nstorage tanks\, silos\, pits\, pipes\, shafts\, ducts\, transport vehicles and ships\ntesting as part of issuing a work permit\nmonitoring as part of working under a work permit\nopen areas\nholding the gas tester by hand\nlowering the gas tester into a space\, e.g. on a line.\n\nParticipants learn to read gas detection equipment\, monitor changes in gas levels while working\, and interpret results to ensure safety. \nThis training is crucial for situations like confined spaces\, hot work areas\, and other environments where gas testing is necessary to maintain a safe working atmosphere. \nRIIWHS202E – Enter and work in confined spaces \nThe RIIWHS202E – Enter and Work in Confined Spaces course covers essential skills and knowledge for safely working in confined spaces. \nKey components include planning and preparing for entry into confined spaces\, identifying hazards\, and implementing control measures. \nParticipants learn to enter and work safely within confined spaces\, use appropriate equipment\, and follow safety procedures. The course also covers exiting and cleaning up confined spaces\, ensuring compliance with safety regulations and standards \nDuration\n1 Day
URL:https://platinumtrainingsolutions.com.au/event/combined-gta-cs-msmwhs217-gas-test-atmospheres-riiwhs202e-enter-and-work-in-confined-spaces-combined/
CATEGORIES:Combined GTA & CS - MSMWHS217 Gas test atmospheres & RIIWHS202E Enter and work in confined spaces (Combined)
END:VEVENT
END:VCALENDAR