BEGIN:VCALENDAR
VERSION:2.0
PRODID:-//Platinum Training Solutions - ECPv6.6.4.2//NONSGML v1.0//EN
CALSCALE:GREGORIAN
METHOD:PUBLISH
X-WR-CALNAME:Platinum Training Solutions
X-ORIGINAL-URL:https://platinumtrainingsolutions.com.au
X-WR-CALDESC:Events for Platinum Training Solutions
REFRESH-INTERVAL;VALUE=DURATION:PT1H
X-Robots-Tag:noindex
X-PUBLISHED-TTL:PT1H
BEGIN:VTIMEZONE
TZID:UTC
BEGIN:STANDARD
TZOFFSETFROM:+0000
TZOFFSETTO:+0000
TZNAME:UTC
DTSTART:20260101T000000
END:STANDARD
END:VTIMEZONE
BEGIN:VEVENT
DTSTART;VALUE=DATE:20260507
DTEND;VALUE=DATE:20260510
DTSTAMP:20260420T175203
CREATED:20260403T232038Z
LAST-MODIFIED:20260403T232038Z
UID:3434-1778112000-1778371199@platinumtrainingsolutions.com.au
SUMMARY:Elevating Work Platform (EWP) – HRWL
DESCRIPTION:TLILIC0005 – Licence to Operate a Boom-Type Elevating Work Platform (Boom Length 11 Metres or More)  \nUnit of Competency \nThis course provides the essential skills and knowledge required to safely operate a boom-type Elevating Work Platform (EWP) with a boom length of 11 metres or more\, in compliance with all relevant legislative requirements. Please note that completing this unit does not automatically grant a High Risk Work Licence (HRWL) to operate this equipment. \nCourse Highlights: \n\nBoom-Type EWP Operation: Learn to operate telescoping\, hinged\, or articulated devices\, or any combination thereof\, used to support a platform for elevating personnel\, equipment\, and materials.\nPlanning and Preparation: Understand how to plan and prepare for EWP tasks\, ensuring all safety protocols are followed.\nTask Performance: Gain practical experience in performing various EWP tasks\, including lifting\, moving\, and positioning loads.\nPack Up: Learn the correct procedures for packing up and securing the EWP after use.\n\nIndustry Relevance \nOperating a boom-type EWP is a critical skill in many industries\, including construction\, maintenance\, and logistics. This course ensures you are well-prepared to handle these tasks safely and efficiently. \nLicensing/Regulatory Information \nTo perform this work\, you must hold a boom-type EWP High Risk Work Licence (HRWL). This unit is based on the licensing requirements of Part 4.5 of the Model Work Health and Safety (WHS) Regulations and meets Commonwealth\, State\, and Territory HRWL requirements. \nPrerequisites \nWorking at heights \nDuration \nThe course is conducted over 3 days. \nEntry Requirements for High Risk Work Licence (HRWL) Courses \nTo enroll in a High Risk Work Licence (HRWL) course at Platinum Training Solutions\, participants must meet the following entry requirements: \n\nParticipants must be at least 18 years of age.\nParticipants need to provide 100 points of identification\, including photo ID\, to verify their identity.\nParticipants must have a basic command of the English language. This includes the ability to read\, comprehend\, and write a range of texts\, and effectively respond to spoken language.\nParticipants should possess a basic ability in mathematics\, particularly for understanding formulas and load chart calculations.\nParticipants must have the necessary health and fitness levels to carry out their duties safely.\n\nWe look forward to supporting you in achieving your qualifications at Platinum Training Solutions.
URL:https://platinumtrainingsolutions.com.au/event/elevating-work-platform-ewp-hrwl-13/
CATEGORIES:TLILIC0005 - Licence to Operate a Boom-Type Elevating Work Platform (Boom Length 11 Metres or More)
END:VEVENT
END:VCALENDAR